BEGIN:VCALENDAR
VERSION:2.0
PRODID:-//Sonargia - ECPv6.8.0//NONSGML v1.0//EN
CALSCALE:GREGORIAN
METHOD:PUBLISH
X-ORIGINAL-URL:https://sonargia.com
X-WR-CALDESC:Eventos para Sonargia
REFRESH-INTERVAL;VALUE=DURATION:PT1H
X-Robots-Tag:noindex
X-PUBLISHED-TTL:PT1H
BEGIN:VTIMEZONE
TZID:UTC
BEGIN:STANDARD
TZOFFSETFROM:+0000
TZOFFSETTO:+0000
TZNAME:UTC
DTSTART:20250101T000000
END:STANDARD
END:VTIMEZONE
BEGIN:VEVENT
DTSTART;TZID=UTC:20250307T190000
DTEND;TZID=UTC:20250510T173000
DTSTAMP:20260422T091018
CREATED:20250211T101559Z
LAST-MODIFIED:20250225T153358Z
UID:20790-1741374000-1746898200@sonargia.com
SUMMARY:sanando a los padres interiores
DESCRIPTION:Comprende tu Herencia Familiar a través de la astrología y la meditación.\nTe invitamos a un viaje transformador donde la Astrología y la Meditación se combinan para ayudarte a comprender los patrones heredados de tus padres y su impacto en tu vida actual. \nA lo largo de 10 clases (5 de meditación y 5 de astrología)\, exploraremos las creencias\, expectativas y dinámicas familiares que han moldeado nuestra personalidad\, así como el papel de los movimientos planetarios en nuestro desarrollo personal. \n¿Qué trabajaremos en este curso?\n🔹 Astrología: Aprende a interpretar tu carta astral y comprender la influencia de los planetas en tu historia familiar.🔹 Meditación: Técnicas guiadas para la introspección\, la sanación emocional y la transformación personal. \n📅 Programa del curso\nCada módulo se desarrolla en dos días e incluye tanto la parte de astrología como la de meditación: \n✅ 1º Conexión con nuestra niña/o interior y patrones familiares en la carta astral📆 7 y 8 de marzo \n✅ 2º Roles y creencias limitantes. Los talentos en la carta natal📆 21 y 22 de marzo \n✅ 3º El padre. Arquetipos y el linaje masculino en la carta natal📆 11 y 12 de abril \n✅ 4º La madre. Necesidades emocionales y físicas en la carta natal📆 25 y 26 de abril \n✅ 5º Luces y sombras. Planetas y otras vidas📆 9 y 10 de mayo \n💰 Precios\n🔹 Clase individual: 15€🔹 Curso completo (10 clases): 100€ \n👥 ¿Quién imparte el curso?\n✨ Maite García – Directora de Sonargia\, profesora de Yoga\, Biodanza y experta en Musicoterapia\, Péndulo Hebreo y Registros Akásicos. \n✨ Susana Navarro – Astróloga y profesora de astrología con una amplia trayectoria en la enseñanza y la interpretación de la carta natal. \n💫 Descubre quién eres más allá de tu historia familiar\nEste curso es una oportunidad para comprender tu pasado\, sanar heridas emocionales y desarrollar una nueva perspectiva sobre tu vida con consciencia y equilibrio. \n📍 Lugar: ONLINE A TRAVÉS DE ZOOM🕰 Horario: Viernes de conciencia y sábados astrológicos.📩 Reserva tu plaza ahora
URL:https://sonargia.com/event/sanandoalospadresinteriores/
LOCATION:zoom
CATEGORIES:Meditación,Yoga
ATTACH;FMTTYPE=image/jpeg:https://sonargia.com/wp-content/uploads/2025/02/astrologia.jpg
END:VEVENT
END:VCALENDAR