BEGIN:VCALENDAR
VERSION:2.0
PRODID:-//Sonargia - ECPv6.8.0//NONSGML v1.0//EN
CALSCALE:GREGORIAN
METHOD:PUBLISH
X-WR-CALNAME:Sonargia
X-ORIGINAL-URL:https://sonargia.com
X-WR-CALDESC:Eventos para Sonargia
REFRESH-INTERVAL;VALUE=DURATION:PT1H
X-Robots-Tag:noindex
X-PUBLISHED-TTL:PT1H
BEGIN:VTIMEZONE
TZID:UTC
BEGIN:STANDARD
TZOFFSETFROM:+0000
TZOFFSETTO:+0000
TZNAME:UTC
DTSTART:20250101T000000
END:STANDARD
END:VTIMEZONE
BEGIN:VEVENT
DTSTART;TZID=UTC:20250517T153000
DTEND;TZID=UTC:20250617T203000
DTSTAMP:20260425T190657
CREATED:20250224T115829Z
LAST-MODIFIED:20250324T155354Z
UID:21014-1747495800-1750192200@sonargia.com
SUMMARY:Curso de Mediumnidad
DESCRIPTION:Formación en Mediumnidad – Conectando con el Mundo Espiritual\nDescubre y desarrolla tu capacidad de comunicación con el mundo espiritual en esta formación impartida por Simona Ghicu en Sonargia. A través de un enfoque práctico y consciente\, aprenderás a percibir\, interpretar y transmitir mensajes desde planos sutiles\, fortaleciendo tu intuición y confianza en la mediumnidad. \n📅 Duración del curso: Sábado 18 de Mayo más 3 encuentros online de practica📍 Lugar: Sonargia\, Castro Urdiales \n¿Qué aprenderás en esta formación?\n✔ Fundamentos de la mediumnidad y tipos de conexión espiritual.✔ Desarrollo de la percepción y el lenguaje intuitivo.✔ Técnicas para canalizar mensajes con claridad y protección energética.✔ Prácticas para fortalecer la conexión con guías y seres de luz.✔ Ética y responsabilidad en la mediumnidad. \nSi sientes el llamado a explorar y desarrollar tu capacidad de conexión con el mundo espiritual\, esta formación te brindará herramientas para hacerlo de forma segura y consciente. Reserva tu plaza y despierta tu don interior.
URL:https://sonargia.com/event/curso-de-mediumnidad/
CATEGORIES:Crecimiento personal
ATTACH;FMTTYPE=image/webp:https://sonargia.com/wp-content/uploads/2025/02/Curso-en-directo-por-Zoom-y-formacion-presencial-1-2048x1152-1.webp
END:VEVENT
END:VCALENDAR