BEGIN:VCALENDAR
VERSION:2.0
PRODID:-//Sonargia - ECPv6.8.0//NONSGML v1.0//EN
CALSCALE:GREGORIAN
METHOD:PUBLISH
X-ORIGINAL-URL:https://sonargia.com
X-WR-CALDESC:Eventos para Sonargia
REFRESH-INTERVAL;VALUE=DURATION:PT1H
X-Robots-Tag:noindex
X-PUBLISHED-TTL:PT1H
BEGIN:VTIMEZONE
TZID:UTC
BEGIN:STANDARD
TZOFFSETFROM:+0000
TZOFFSETTO:+0000
TZNAME:UTC
DTSTART:20250101T000000
END:STANDARD
END:VTIMEZONE
BEGIN:VEVENT
DTSTART;TZID=UTC:20250606T160000
DTEND;TZID=UTC:20250608T163000
DTSTAMP:20260422T163540
CREATED:20250304T093840Z
LAST-MODIFIED:20250304T094209Z
UID:21147-1749225600-1749400200@sonargia.com
SUMMARY:RETIRO DE VERANO "BAILA CON EL SOL"
DESCRIPTION:  \n\nRetiro «Baila con el Sol» \nVive un verano de conexión y energía\n 6\, 7 y 8 de junio | Cerca de Castro Urdiales  \nSumérgete en un retiro transformador donde el sol será nuestra guía. Durante este fin de semana\, exploraremos el movimiento\, la meditación y la creatividad en un entorno natural único. \n¿Qué encontrarás en este retiro?\n Viernes 6 de junio \n\nDescubrimos la dinámica del sol y sus cualidades.\nSesión de yoga enfocada en el 3º chakra.\nDanza sin fronteras para liberar tu energía.\n\n Sábado 7 de junio \n\nMeditación para conectar con el presente.\nYoga en movimiento\, juega y experimenta.\nBIODANZA: Despierta tus instintos vitales.\nPaseo consciente en la naturaleza.\nEspacio de creatividad y expresión.\nCena especial y Ritual Solar para potenciar nuestra energía.\n\n Domingo 8 de junio \n\nMeditación matinal para empezar el día con claridad.\nDesayuno compartido.\nYano Yoga: equilibrio y armonía.\nLa Danza del Sol: movimiento\, alegría y conexión.\nCierre del retiro y despedida.\n\nIncluye:\n Alojamiento de fin de semana en un entorno natural.\n Pensión completa (desayuno\, comida y cena).\n Todas las actividades guiadas.\n Materiales necesarios para las dinámicas.\n Acompañamiento de dos profesionales cualificadas. \n Aportación: 280 €\n Reserva tu plaza con 50 € (reembolsable hasta el 6 de mayo). \n Plazas limitadas. ¡Vive un retiro único y deja que el sol te guíe! \n Ubicación: Ribota de Ordunte\, casa «El Tilo» \n Reserva tu plaza ahora a través de contacto o de instragam en @sonargia o @lilahyogaymeditación \ny empieza tu viaje hacia el bienestar.
URL:https://sonargia.com/event/retiro-de-verano-baila-con-el-sol/
LOCATION:ribota de ordunte\, casa "el tilo"
CATEGORIES:Crecimiento personal,Retiros
ATTACH;FMTTYPE=image/jpeg:https://sonargia.com/wp-content/uploads/2025/03/284833_c114096be673628703c3bd82363a0401-15_6_2023-20_21_33.jpg
END:VEVENT
BEGIN:VEVENT
DTSTART;TZID=UTC:20250621T110000
DTEND;TZID=UTC:20250621T170000
DTSTAMP:20260422T163540
CREATED:20250602T145703Z
LAST-MODIFIED:20250602T150334Z
UID:21303-1750503600-1750525200@sonargia.com
SUMMARY:Danza con la naturaleza
DESCRIPTION:Un día mágico para reconectar contigo\n¿Te gustaría vivir una experiencia diferente\, mágica y transformadora en plena naturaleza?Este sábado 21 de junio\, te invitamos a “Danza con la Naturaleza”\, una jornada diseñada especialmente para mujeres que desean conectar con su energía femenina\, con la tierra\, con la alegría y con su poder interior\, sin necesidad de hacer un retiro de varios días. \n✨ ¿Qué te espera en esta experiencia?\n🔸 Sesión de Biodanza en la naturalezaConecta con tu cuerpo\, el placer del movimiento y la libertad de ser tú misma\, rodeada de aire puro y paisajes vivos. \n🔸 Círculo de voces y ritmosExplora tu voz y tu vibración natural en grupo\, activando la expresión\, la escucha y la conexión. \n🔸 Ritual «Honrando a la Diosa Litha»Celebra el solsticio de verano y el poder de la luz con un ritual sagrado lleno de intención y simbolismo femenino. \n🔸 Creación del espacio sagradoUn momento para abrir juntas un portal de energía\, con respeto\, magia y presencia. \n🔸 Conexión con el AkashaAccede a la memoria del alma\, a la sabiduría interna que vive en ti\, a través de una práctica guiada y consciente. \n🌺 ¿Cuándo y dónde?\n📅 Sábado 21 de junio🕚 De 11:00 a 16:00 h📍 Punto de encuentro: Sonargia a las 10:40 h. Iremos juntas a un lugar natural y especial. \n💰 Aportación: 35 €\nIncluye todas las actividades del día. \n🧺 ¿Qué necesitas traer?\n✔️ Ropa cómoda✔️ Una toalla o pareo para sentarte en la tierra✔️ Algo de comida rica y sencilla para compartir \n💫 Un día para ti. Un día para volver a ti.\nSi no puedes ir a un retiro de fin de semana\, pero sientes que necesitas un espacio de reconexión\, este taller es tu oportunidad para vivir un sábado diferente\, mágico y profundo. \nPlazas limitadas.Reserva la tuya cuanto antes y permítete disfrutar de esta experiencia sagrada. \n📩 info@asonargia.com
URL:https://sonargia.com/event/danza-con-la-naturaleza/
LOCATION:Castro Urdiales\, P.º Ocharan Mazas 38\, bajo 3\, Castro-Urdiales\, Cantabria\, 39700\, Spain
CATEGORIES:biodanza,Crecimiento personal,Retiros
ATTACH;FMTTYPE=image/jpeg:https://sonargia.com/wp-content/uploads/2025/06/julia-arte-bN9X5dhveDo-unsplash-scaled.jpg
END:VEVENT
END:VCALENDAR