BEGIN:VCALENDAR
VERSION:2.0
PRODID:-//Sonargia - ECPv6.8.0//NONSGML v1.0//EN
CALSCALE:GREGORIAN
METHOD:PUBLISH
X-WR-CALNAME:Sonargia
X-ORIGINAL-URL:https://sonargia.com
X-WR-CALDESC:Eventos para Sonargia
REFRESH-INTERVAL;VALUE=DURATION:PT1H
X-Robots-Tag:noindex
X-PUBLISHED-TTL:PT1H
BEGIN:VTIMEZONE
TZID:UTC
BEGIN:STANDARD
TZOFFSETFROM:+0000
TZOFFSETTO:+0000
TZNAME:UTC
DTSTART:20250101T000000
END:STANDARD
END:VTIMEZONE
BEGIN:VEVENT
DTSTART;TZID=UTC:20250412T110000
DTEND;TZID=UTC:20250412T130000
DTSTAMP:20260422T163658
CREATED:20250324T161043Z
LAST-MODIFIED:20250324T161242Z
UID:21177-1744455600-1744462800@sonargia.com
SUMMARY:Taller de Biodanza: Conectando con los instintos
DESCRIPTION:Taller de Biodanza: Conectando con los Instintos 🌿🔥💃\nDescubre la fuerza instintiva que habita en ti a través de la Biodanza\, una experiencia de conexión profunda con tu cuerpo\, emociones y esencia natural. En este taller\, exploraremos cómo los instintos nos guían\, nos protegen y nos permiten vivir con mayor autenticidad y equilibrio. \n🌱 ¿Qué instintos trabajaremos?\n🌀 Instinto Gregario o de Pertenencia – La necesidad de conexión\, de sentirnos parte de un grupo y construir relaciones auténticas.💛 Instinto de Cuidado y Protección de la Vida – La ternura\, la empatía y la capacidad de nutrirnos a nosotros mismos y a los demás.🔥 Instinto de Supervivencia – La fuerza vital\, la seguridad y la capacidad de enfrentar desafíos.🌍 Instinto de Exploración – La curiosidad\, el deseo de descubrir\, expandirnos y abrirnos a nuevas experiencias.💞 Instinto de Afectividad – La entrega\, la confianza y el placer de vincularnos con los otros desde el amor y la sensibilidad.🌌 Instinto de Trascendencia – La conexión con lo sagrado\, la armonía interior y el sentido de propósito en la vida. \nA través del movimiento\, la música y la expresión corporal\, despertaremos estos instintos para recuperar nuestra sabiduría interna\, liberar bloqueos y encontrar un mayor equilibrio emocional. \n📅 Información del Taller\n📍 Lugar: Sonargia\, Castro Urdiales🗓 Fecha: 12 Abril⏳ Duración: 12:00 – 13:00💰 Precio: 20 €📩 Reserva tu plaza a través del contacto o en instagram @sonargia. \n✨ Baila\, siente y despierta tu esencia instintiva. ¡Vuelve a conectar con la vida! ✨ \n\n\n\n\n\n\n\n\n\n\n\n\n\n\n\n\n\n\n\n\n\n\n\n\n\n\n\n\n\n\n\n\n\n\n\n\n\n\n\n\n\n\n\n\n\n\n\n\nO
URL:https://sonargia.com/event/taller-de-biodanza-conectando-con-los-instintos/
CATEGORIES:biodanza,Crecimiento personal
ATTACH;FMTTYPE=image/jpeg:https://sonargia.com/wp-content/uploads/2025/03/biodanza.jpg
END:VEVENT
END:VCALENDAR